BEGIN:VCALENDAR
PRODID:-//github.com/rianjs/ical.net//NONSGML ical.net 4.0//EN
VERSION:2.0
BEGIN:VTIMEZONE
TZID:Pacific Standard Time
X-LIC-LOCATION:America/Los_Angeles
BEGIN:STANDARD
DTSTART:20241103T020000
RRULE:FREQ=YEARLY;BYDAY=1SU;BYMONTH=11
TZNAME:PST
TZOFFSETFROM:-0700
TZOFFSETTO:-0800
END:STANDARD
BEGIN:DAYLIGHT
DTSTART:20250309T020000
RRULE:FREQ=YEARLY;BYDAY=2SU;BYMONTH=3
TZNAME:PDT
TZOFFSETFROM:-0800
TZOFFSETTO:-0700
END:DAYLIGHT
END:VTIMEZONE
BEGIN:VEVENT
DTEND;TZID=Pacific Standard Time;VALUE=DATE:20260614
DTSTAMP:20260425T163541Z
DTSTART;TZID=Pacific Standard Time;VALUE=DATE:20260610
LOCATION:San Diego\, California
ORGANIZER;CN=;SENT-BY="mailto:":
SEQUENCE:0
SUMMARY:AIASF: AIA Conference on Architecture & DesignŽ2026
UID:ae2d46c7-d7b8-43a2-8abb-297b030f0e92
END:VEVENT
END:VCALENDAR
