BEGIN:VCALENDAR
PRODID:-//github.com/rianjs/ical.net//NONSGML ical.net 4.0//EN
VERSION:2.0
BEGIN:VTIMEZONE
TZID:Pacific Standard Time
X-LIC-LOCATION:America/Los_Angeles
BEGIN:STANDARD
DTSTART:20241103T020000
RRULE:FREQ=YEARLY;BYDAY=1SU;BYMONTH=11
TZNAME:PST
TZOFFSETFROM:-0700
TZOFFSETTO:-0800
END:STANDARD
BEGIN:DAYLIGHT
DTSTART:20250309T020000
RRULE:FREQ=YEARLY;BYDAY=2SU;BYMONTH=3
TZNAME:PDT
TZOFFSETFROM:-0800
TZOFFSETTO:-0700
END:DAYLIGHT
END:VTIMEZONE
BEGIN:VEVENT
DTEND;TZID=Pacific Standard Time:20260326T200000
DTSTAMP:20260421T084457Z
DTSTART;TZID=Pacific Standard Time:20260326T180000
LOCATION:Center for Architecture + Design 140 Sutter Street San Francisco\
 , CA 94104
ORGANIZER;CN=;SENT-BY="mailto:":
SEQUENCE:0
SUMMARY:AIASF: Built by Her: Stories of Remarkable Latinas in Architecture
UID:21425ff0-e604-448f-9d0b-a79268d9152b
END:VEVENT
END:VCALENDAR
