BEGIN:VCALENDAR
PRODID:-//github.com/rianjs/ical.net//NONSGML ical.net 4.0//EN
VERSION:2.0
BEGIN:VTIMEZONE
TZID:Pacific Standard Time
X-LIC-LOCATION:America/Los_Angeles
BEGIN:STANDARD
DTSTART:20241103T020000
RRULE:FREQ=YEARLY;BYDAY=1SU;BYMONTH=11
TZNAME:PST
TZOFFSETFROM:-0700
TZOFFSETTO:-0800
END:STANDARD
BEGIN:DAYLIGHT
DTSTART:20250309T020000
RRULE:FREQ=YEARLY;BYDAY=2SU;BYMONTH=3
TZNAME:PDT
TZOFFSETFROM:-0800
TZOFFSETTO:-0700
END:DAYLIGHT
END:VTIMEZONE
BEGIN:VEVENT
DTEND;TZID=Pacific Standard Time:20260507T210000
DTSTAMP:20260425T164506Z
DTSTART;TZID=Pacific Standard Time:20260507T173000
LOCATION:Chinese Culture Center  750 Kearny Street 3rd Floor  San Francisc
 o\, CA 94108-1861 United States
ORGANIZER;CN=;SENT-BY="mailto:":
SEQUENCE:0
SUMMARY:AIASF: 2026 AIASF Design Awards Gala
UID:943f88a3-2d2f-4a9a-8907-473ebdcfbb75
END:VEVENT
END:VCALENDAR
